BEGIN:VCALENDAR
VERSION:2.0
PRODID:-//ORARI Daerah Jawa Tengah Lokal Batang - ECPv6.3.5//NONSGML v1.0//EN
CALSCALE:GREGORIAN
METHOD:PUBLISH
X-WR-CALNAME:ORARI Daerah Jawa Tengah Lokal Batang
X-ORIGINAL-URL:https://oraridaerahjateng.or.id/yh2az
X-WR-CALDESC:Events for ORARI Daerah Jawa Tengah Lokal Batang
REFRESH-INTERVAL;VALUE=DURATION:PT1H
X-Robots-Tag:noindex
X-PUBLISHED-TTL:PT1H
BEGIN:VTIMEZONE
TZID:Asia/Krasnoyarsk
BEGIN:STANDARD
TZOFFSETFROM:+0700
TZOFFSETTO:+0700
TZNAME:+07
DTSTART:20220101T000000
END:STANDARD
END:VTIMEZONE
BEGIN:VEVENT
DTSTART;TZID=Asia/Krasnoyarsk:20220410T200000
DTEND;TZID=Asia/Krasnoyarsk:20220410T235900
DTSTAMP:20260421T012436
CREATED:20220412T092431Z
LAST-MODIFIED:20220412T092431Z
UID:87-1649620800-1649635140@oraridaerahjateng.or.id
SUMMARY:Special Call 8A56BTG HUT Kabupaten Batang ke-56
DESCRIPTION:
URL:https://oraridaerahjateng.or.id/yh2az/event/special-call-8a56btg-hut-kabupaten-batang-ke-56/
LOCATION:8A56BTG\, Batang\, JAWA TENGAH\, 51216\, Indonesia
CATEGORIES:NEWS,Special Event Station
ATTACH;FMTTYPE=image/jpeg:https://oraridaerahjateng.or.id/yh2az/wp-content/uploads/sites/9/2022/04/Batang-Go-Global-HUT-Kabupaten-Batang-ke-56.jpg
END:VEVENT
END:VCALENDAR